BEGIN:VCALENDAR
VERSION:2.0
PRODID:-//hacksw/handcal//NONSGML v1.0//EN
CALSCALE:GREGORIAN
BEGIN:VEVENT
DTEND:20070616T080000Z
UID:69e7701a9dad0
DTSTAMP:20260421T133954Z
LOCATION:1220 Wien
DESCRIPTION:Sprint Triathlon Distanz: 0\,75/10/5km
Olympic Triathlon Distanz: 1\,5/40/10km
Mini-Kids-Junior Aquathlon Distanz: je nach Jahrgang

URL;VALUE=URI:
SUMMARY:Vienna City Triathlon
DTSTART:20070615T230000Z
END:VEVENT
END:VCALENDAR
An internal server error occurred.