BEGIN:VCALENDAR
VERSION:2.0
PRODID:-//hacksw/handcal//NONSGML v1.0//EN
CALSCALE:GREGORIAN
BEGIN:VEVENT
DTEND:20070602T150000Z
UID:69e6d3b11d53a
DTSTAMP:20260421T023233Z
LOCATION:4055 Pucking
DESCRIPTION:Wunderschöne Naturlaufstrecke mit nur 20% Asphalt durch die Traunauen!
URL;VALUE=URI:
SUMMARY:3. Puckinger Seelauf
DTSTART:20070601T230000Z
END:VEVENT
END:VCALENDAR
An internal server error occurred.