BEGIN:VCALENDAR
VERSION:2.0
PRODID:-//hacksw/handcal//NONSGML v1.0//EN
CALSCALE:GREGORIAN
BEGIN:VEVENT
DTEND:20070811T143000Z
UID:69e93d38445e3
DTSTAMP:20260422T222720Z
LOCATION:64756 Mossautal
DESCRIPTION:Jeder Finisher erhält eine exklusive Finishermedaille
URL;VALUE=URI:
SUMMARY:12. Güttersbacher Volkslauf 2007
DTSTART:20070810T230000Z
END:VEVENT
END:VCALENDAR
An internal server error occurred.