BEGIN:VCALENDAR
VERSION:2.0
PRODID:-//hacksw/handcal//NONSGML v1.0//EN
CALSCALE:GREGORIAN
BEGIN:VEVENT
DTEND:20070722T090000Z
UID:69e82839cc692
DTSTAMP:20260422T024529Z
LOCATION:4671 Neukirchen bei Lambach
DESCRIPTION:Wertungslauf des Traunviertler Laufcups
URL;VALUE=URI:
SUMMARY:Neukirchen Läuft
DTSTART:20070721T230000Z
END:VEVENT
END:VCALENDAR
An internal server error occurred.