BEGIN:VCALENDAR
VERSION:2.0
PRODID:-//hacksw/handcal//NONSGML v1.0//EN
CALSCALE:GREGORIAN
BEGIN:VEVENT
DTEND:20070519T090000Z
UID:69e5bee165d12
DTSTAMP:20260420T065129Z
LOCATION:6850 Dornbirn
DESCRIPTION:Veranstalter: Freie Montessori Schule\, Altach
URL;VALUE=URI:
SUMMARY:12 Stunden Nachtlauf
DTSTART:20070518T230000Z
END:VEVENT
END:VCALENDAR
An internal server error occurred.