BEGIN:VCALENDAR
VERSION:2.0
PRODID:-//hacksw/handcal//NONSGML v1.0//EN
CALSCALE:GREGORIAN
BEGIN:VEVENT
DTEND:20070127T093000Z
UID:69e6038eb433a
DTSTAMP:20260420T114430Z
LOCATION:26548 Norderney
DESCRIPTION:Wellness- und Fitness Wochenende
Zeitmessung mit Teilnahmeurkunde
URL;VALUE=URI:
SUMMARY:Walkin-/ Nordic- Walking Wochenende
DTSTART:20070126T230000Z
END:VEVENT
END:VCALENDAR
An internal server error occurred.