BEGIN:VCALENDAR
VERSION:2.0
PRODID:-//hacksw/handcal//NONSGML v1.0//EN
CALSCALE:GREGORIAN
BEGIN:VEVENT
DTEND:20070804T163000Z
UID:69ec15316b060
DTSTAMP:20260425T021321Z
LOCATION:9063 Maria Saal\, Herzogstuhl am Zollfeld
DESCRIPTION:Bewerb zum Kärntner "Immulac Sport" Berglaufcup 2007
URL;VALUE=URI:
SUMMARY:10. ASV Maria Saal - Volkslauf auf den Ulrichsberg
DTSTART:20070803T230000Z
END:VEVENT
END:VCALENDAR
An internal server error occurred.