BEGIN:VCALENDAR
VERSION:2.0
PRODID:-//hacksw/handcal//NONSGML v1.0//EN
CALSCALE:GREGORIAN
BEGIN:VEVENT
DTEND:20070815T160000Z
UID:69e8ecc7ef615
DTSTAMP:20260422T164407Z
LOCATION:4861 Schörfling
DESCRIPTION:Kinderläufe ab 14:30 Uhr 200m\,440m\,880m u. 1320m
URL;VALUE=URI:
SUMMARY:6. Sickinger Rundlauf
DTSTART:20070814T230000Z
END:VEVENT
END:VCALENDAR
An internal server error occurred.