BEGIN:VCALENDAR
VERSION:2.0
PRODID:-//hacksw/handcal//NONSGML v1.0//EN
CALSCALE:GREGORIAN
BEGIN:VEVENT
DTEND:20070609T150000Z
UID:69e6c9ecd32fd
DTSTAMP:20260421T015052Z
LOCATION:6020 Innsbruck
DESCRIPTION:4er-Staffel 16\,5-4\,5-13-8\,2km
Mini-Marathon 2\,1km 
URL;VALUE=URI:
SUMMARY:Tirol Speed Marathon
DTSTART:20070608T230000Z
END:VEVENT
END:VCALENDAR
An internal server error occurred.