BEGIN:VCALENDAR
VERSION:2.0
PRODID:-//hacksw/handcal//NONSGML v1.0//EN
CALSCALE:GREGORIAN
BEGIN:VEVENT
DTEND:20070707T130000Z
UID:69e812300ea3a
DTSTAMP:20260422T011128Z
LOCATION:9020 Klagenfurt
DESCRIPTION:Jahrgang 98-2001 Distanz 50/900m
Jahrgang 94-97   Distanz 100/1800m
Jahrgang 92-93   Distanz 200/2700m
URL;VALUE=URI:
SUMMARY:Ironkids
DTSTART:20070706T230000Z
END:VEVENT
END:VCALENDAR
An internal server error occurred.