BEGIN:VCALENDAR
VERSION:2.0
PRODID:-//hacksw/handcal//NONSGML v1.0//EN
CALSCALE:GREGORIAN
BEGIN:VEVENT
DTEND:20070707T130000Z
UID:69e7e688c9bf6
DTSTAMP:20260421T220512Z
LOCATION:69488 Birkenau
DESCRIPTION:2.Lauf zum Odenwälder Laufcup 2007
URL;VALUE=URI:
SUMMARY:Birkenauer Kerwelauf
DTSTART:20070706T230000Z
END:VEVENT
END:VCALENDAR
An internal server error occurred.