BEGIN:VCALENDAR
VERSION:2.0
PRODID:-//hacksw/handcal//NONSGML v1.0//EN
CALSCALE:GREGORIAN
BEGIN:VEVENT
DTEND:20070708T073000Z
UID:69e99544a701a
DTSTAMP:20260423T044300Z
LOCATION:6473 Wenns / Pitztal
DESCRIPTION:4er-Staffellauf Distanz 42\,195km
Hobbylauf Distanz 11\,4km
Kinderlauf Distanz 1\,5km
URL;VALUE=URI:
SUMMARY:Sport 2000 Gletschermarathon Pitztal-Imst
DTSTART:20070707T230000Z
END:VEVENT
END:VCALENDAR
An internal server error occurred.