BEGIN:VCALENDAR
VERSION:2.0
PRODID:-//hacksw/handcal//NONSGML v1.0//EN
CALSCALE:GREGORIAN
BEGIN:VEVENT
DTEND:20070901T083000Z
UID:69e9107834338
DTSTAMP:20260422T191624Z
LOCATION:5760 Saalfelden
DESCRIPTION:Potatoe Party
URL;VALUE=URI:
SUMMARY:Tri-Motion Saalfelden
DTSTART:20070831T230000Z
END:VEVENT
END:VCALENDAR
An internal server error occurred.