BEGIN:VCALENDAR
VERSION:2.0
PRODID:-//hacksw/handcal//NONSGML v1.0//EN
CALSCALE:GREGORIAN
BEGIN:VEVENT
DTEND:20070513T080000Z
UID:69e506720a086
DTSTAMP:20260419T174434Z
LOCATION:12000 Prague
DESCRIPTION:
URL;VALUE=URI:
SUMMARY:Volkswagen Prague Marathon
DTSTART:20070512T230000Z
END:VEVENT
END:VCALENDAR
An internal server error occurred.