BEGIN:VCALENDAR
VERSION:2.0
PRODID:-//hacksw/handcal//NONSGML v1.0//EN
CALSCALE:GREGORIAN
BEGIN:VEVENT
DTEND:20070701T100000Z
UID:69e859dac08e6
DTSTAMP:20260422T061714Z
LOCATION:8623 Aflenz-Kurort
DESCRIPTION:Der wirklich härteste Teambewerb Österreichs (XC run - hillclimb run - DH bike - XC bike) mit dem höchsten Preisgeld (8.000.- für's Siegerteam)!

URL;VALUE=URI:
SUMMARY:Hochschwabtrail The Race 2007
DTSTART:20070630T230000Z
END:VEVENT
END:VCALENDAR
An internal server error occurred.