BEGIN:VCALENDAR
VERSION:2.0
PRODID:-//hacksw/handcal//NONSGML v1.0//EN
CALSCALE:GREGORIAN
BEGIN:VEVENT
DTEND:20061130T230000Z
UID:69ebdf555f53e
DTSTAMP:20260424T222333Z
LOCATION:1060 Wien
DESCRIPTION:1. bis 3. Dezember findet in der Wiener Stadthalle das Erste Bank Vienna Sport Festival statt!

URL;VALUE=URI:
SUMMARY:Erste Bank Vienna Sport Festival
DTSTART:20061130T230000Z
END:VEVENT
END:VCALENDAR
An internal server error occurred.