BEGIN:VCALENDAR
VERSION:2.0
PRODID:-//hacksw/handcal//NONSGML v1.0//EN
CALSCALE:GREGORIAN
BEGIN:VEVENT
DTEND:20070603T090000Z
UID:69e6c9eeec383
DTSTAMP:20260421T015054Z
LOCATION:3345 Göstling/Hochkar
DESCRIPTION:Hochkar Berglauf\, Int. Österr. Berglaufmeisterschaf\, Nö-Landesmeisterschaft\, Kinderlauf\, Schülerlauf\, Hobbylauf\, Nordic Walking
URL;VALUE=URI:
SUMMARY:Hochkar-Berglauf
DTSTART:20070602T230000Z
END:VEVENT
END:VCALENDAR
An internal server error occurred.