BEGIN:VCALENDAR
VERSION:2.0
PRODID:-//hacksw/handcal//NONSGML v1.0//EN
CALSCALE:GREGORIAN
BEGIN:VEVENT
DTEND:20070812T074500Z
UID:69ed1a0e84668
DTSTAMP:20260425T204622Z
LOCATION:51065 Köln
DESCRIPTION:Firmenstaffel - Schulstaffel
URL;VALUE=URI:
SUMMARY:2. GAG-Erlebnis-Halbmarathon Köln 
DTSTART:20070811T230000Z
END:VEVENT
END:VCALENDAR
An internal server error occurred.