BEGIN:VCALENDAR
VERSION:2.0
PRODID:-//hacksw/handcal//NONSGML v1.0//EN
CALSCALE:GREGORIAN
BEGIN:VEVENT
DTEND:20070526T140000Z
UID:69e63b4c74a3f
DTSTAMP:20260420T154220Z
LOCATION:4020 Linz - Pleschingersee
DESCRIPTION:Sprint Einzelstarter 0\,75/24/5km 
3er Team Sprintdistanz 0\,40/24/5km
URL;VALUE=URI:
SUMMARY:3. Int.  Linztriathlon
DTSTART:20070525T230000Z
END:VEVENT
END:VCALENDAR
An internal server error occurred.