BEGIN:VCALENDAR
VERSION:2.0
PRODID:-//hacksw/handcal//NONSGML v1.0//EN
CALSCALE:GREGORIAN
BEGIN:VEVENT
DTEND:20070527T080000Z
UID:69e65fc849f79
DTSTAMP:20260420T181800Z
LOCATION:4020 Linz - Pleschingersee
DESCRIPTION:Halbironman
URL;VALUE=URI:
SUMMARY:3. Int.  Linztriathlon
DTSTART:20070526T230000Z
END:VEVENT
END:VCALENDAR
An internal server error occurred.