BEGIN:VCALENDAR
VERSION:2.0
PRODID:-//hacksw/handcal//NONSGML v1.0//EN
CALSCALE:GREGORIAN
BEGIN:VEVENT
DTEND:20070513T080000Z
UID:69e9a308ec8f1
DTSTAMP:20260423T054144Z
LOCATION:5020 Salzburg
DESCRIPTION:2er-\, 4er- u. 6er-Staffelmarathon
Kids Race 1Meile=1\,609km
Genusslauf 5\,5km
URL;VALUE=URI:
SUMMARY:Salzburg AMREF Marathon mit Halb- und Staffelmarathon
DTSTART:20070512T230000Z
END:VEVENT
END:VCALENDAR
An internal server error occurred.