BEGIN:VCALENDAR
VERSION:2.0
PRODID:-//hacksw/handcal//NONSGML v1.0//EN
CALSCALE:GREGORIAN
BEGIN:VEVENT
DTEND:20060909T180000Z
UID:69ed749c744b5
DTSTAMP:20260426T031244Z
LOCATION:7141 Podersdorf am See
DESCRIPTION:Einzel und 3er-Staffel
URL;VALUE=URI:
SUMMARY:1. Int. Nacht-Sprint und Business-Triathlon/Podersdorf
DTSTART:20060908T230000Z
END:VEVENT
END:VCALENDAR
An internal server error occurred.