BEGIN:VCALENDAR
VERSION:2.0
PRODID:-//hacksw/handcal//NONSGML v1.0//EN
CALSCALE:GREGORIAN
BEGIN:VEVENT
DTEND:20070617T083000Z
UID:69e7c7cd94f62
DTSTAMP:20260421T195405Z
LOCATION:2521 Trumau
DESCRIPTION:Altersklassen: M/W Schüler\, M/W Jug.\, M/W Jun.\, M/W 20\, 30\, 40\, 50\, 60\, 70\; Start: 9:30\; Nenngeld: € 11\,- inkl. Funktions-Running-Shirt\, Mega-Starterpaket\, Ticket für Pasta Party
URL;VALUE=URI:
SUMMARY:4. Trumauer Lauferlebnis
DTSTART:20070616T230000Z
END:VEVENT
END:VCALENDAR
An internal server error occurred.