BEGIN:VCALENDAR
VERSION:2.0
PRODID:-//hacksw/handcal//NONSGML v1.0//EN
CALSCALE:GREGORIAN
BEGIN:VEVENT
DTEND:20070603T100000Z
UID:69e6c9ec4de8b
DTSTAMP:20260421T015052Z
LOCATION:4522 Sierning
DESCRIPTION:
URL;VALUE=URI:
SUMMARY:4. City Running Sierning
DTSTART:20070602T230000Z
END:VEVENT
END:VCALENDAR
An internal server error occurred.