BEGIN:VCALENDAR
VERSION:2.0
PRODID:-//hacksw/handcal//NONSGML v1.0//EN
CALSCALE:GREGORIAN
BEGIN:VEVENT
DTEND:20070603T084500Z
UID:69e6c9ed4e403
DTSTAMP:20260421T015053Z
LOCATION:2826 Görlitz
DESCRIPTION:Grenzüberschreitender Lauf Deutschland-Polen
URL;VALUE=URI:
SUMMARY:Europamarathon 2007
DTSTART:20070602T230000Z
END:VEVENT
END:VCALENDAR
An internal server error occurred.