BEGIN:VCALENDAR
VERSION:2.0
PRODID:-//hacksw/handcal//NONSGML v1.0//EN
CALSCALE:GREGORIAN
BEGIN:VEVENT
DTEND:20070204T110000Z
UID:69e60392cb5b3
DTSTAMP:20260420T114434Z
LOCATION:48157 Münster
DESCRIPTION:Unter dem Motto „Sind sie zu stark\, bist Du zu schwach!“ schickt Fisherman’s Friend über 1.500  Läufer auf eine Strecke\, die es in sich hat. 
URL;VALUE=URI:
SUMMARY:Fisherman's Friend Strongman Run 2007
DTSTART:20070203T230000Z
END:VEVENT
END:VCALENDAR
An internal server error occurred.