BEGIN:VCALENDAR
VERSION:2.0
PRODID:-//hacksw/handcal//NONSGML v1.0//EN
CALSCALE:GREGORIAN
BEGIN:VEVENT
DTEND:20070610T083000Z
UID:69e85f1d53425
DTSTAMP:20260422T063941Z
LOCATION:72660 Beuren
DESCRIPTION:Der Hohenneuffen-Berglauf eignet sich besonders für Berglaufeinsteiger\, denn die Strecke bietet unterwegs einige erholsame Flach- und Bergabpassagen. Aber auch für Bergspezialisten ist die Strecke ein Prüfstein\, denn sie verlangt ständige Rhythmuswechsel. Der große Reiz dabei ist\, für sich selbst die optimale Renneinteilung zu finden.
URL;VALUE=URI:
SUMMARY:19. Hohenneuffen Berglauf
DTSTART:20070609T230000Z
END:VEVENT
END:VCALENDAR
An internal server error occurred.