BEGIN:VCALENDAR
VERSION:2.0
PRODID:-//hacksw/handcal//NONSGML v1.0//EN
CALSCALE:GREGORIAN
BEGIN:VEVENT
DTEND:20060827T120000Z
UID:69e93b7dea056
DTSTAMP:20260422T221957Z
LOCATION:8786 Rottenmann
DESCRIPTION:Teambewerb: Mountainbiken-Berglaufen-Paragleiten-Radfahren und Laufen 
URL;VALUE=URI:
SUMMARY:10. Int. Rottenmanner Tauern Adventure Race powered by asics
DTSTART:20060826T230000Z
END:VEVENT
END:VCALENDAR
An internal server error occurred.