BEGIN:VCALENDAR
VERSION:2.0
PRODID:-//hacksw/handcal//NONSGML v1.0//EN
CALSCALE:GREGORIAN
BEGIN:VEVENT
DTEND:20061230T230000Z
UID:69e6306d3ad7c
DTSTAMP:20260420T145557Z
LOCATION:0 Stuttgart/Weilimdorf
DESCRIPTION:
URL;VALUE=URI:
SUMMARY:16.Stuttgarter Silvesterlauf
DTSTART:20061230T230000Z
END:VEVENT
END:VCALENDAR
An internal server error occurred.