BEGIN:VCALENDAR
VERSION:2.0
PRODID:-//hacksw/handcal//NONSGML v1.0//EN
CALSCALE:GREGORIAN
BEGIN:VEVENT
DTEND:20061230T230000Z
UID:69e5dd68909c0
DTSTAMP:20260420T090144Z
LOCATION:0 Netphen/Siegen
DESCRIPTION:
URL;VALUE=URI:
SUMMARY:29.Silvesterlauf an der Obernau
DTSTART:20061230T230000Z
END:VEVENT
END:VCALENDAR
An internal server error occurred.