BEGIN:VCALENDAR
VERSION:2.0
PRODID:-//hacksw/handcal//NONSGML v1.0//EN
CALSCALE:GREGORIAN
BEGIN:VEVENT
DTEND:20061230T230000Z
UID:69e603b98c651
DTSTAMP:20260420T114513Z
LOCATION:0 Leipzig
DESCRIPTION:
URL;VALUE=URI:
SUMMARY:17.Silvesterlauf am Auensee
DTSTART:20061230T230000Z
END:VEVENT
END:VCALENDAR
An internal server error occurred.