BEGIN:VCALENDAR
VERSION:2.0
PRODID:-//hacksw/handcal//NONSGML v1.0//EN
CALSCALE:GREGORIAN
BEGIN:VEVENT
DTEND:20061230T230000Z
UID:69e59f97c40f4
DTSTAMP:20260420T043759Z
LOCATION:0 Plänterwald
DESCRIPTION:
URL;VALUE=URI:
SUMMARY:28.Silvesterlauf im Plänterwald
DTSTART:20061230T230000Z
END:VEVENT
END:VCALENDAR
An internal server error occurred.