BEGIN:VCALENDAR
VERSION:2.0
PRODID:-//hacksw/handcal//NONSGML v1.0//EN
CALSCALE:GREGORIAN
BEGIN:VEVENT
DTEND:20061229T230000Z
UID:69e603b706705
DTSTAMP:20260420T114511Z
LOCATION:0 Saarbrücken
DESCRIPTION:
URL;VALUE=URI:
SUMMARY:32.Int. Saarbrücker Silvesterlauf
DTSTART:20061229T230000Z
END:VEVENT
END:VCALENDAR
An internal server error occurred.