BEGIN:VCALENDAR
VERSION:2.0
PRODID:-//hacksw/handcal//NONSGML v1.0//EN
CALSCALE:GREGORIAN
BEGIN:VEVENT
DTEND:20061225T230000Z
UID:69e5dd69dd49e
DTSTAMP:20260420T090145Z
LOCATION:0 Berlin/Hohenschönhausen
DESCRIPTION:
URL;VALUE=URI:
SUMMARY:22.Hohenschönhauser Weihnachtslauf
DTSTART:20061225T230000Z
END:VEVENT
END:VCALENDAR
An internal server error occurred.