BEGIN:VCALENDAR
VERSION:2.0
PRODID:-//hacksw/handcal//NONSGML v1.0//EN
CALSCALE:GREGORIAN
BEGIN:VEVENT
DTEND:20061216T230000Z
UID:69e603ae020ea
DTSTAMP:20260420T114502Z
LOCATION:0 Emmerich
DESCRIPTION:
URL;VALUE=URI:
SUMMARY:41.Emmericher Adventslauf
DTSTART:20061216T230000Z
END:VEVENT
END:VCALENDAR
An internal server error occurred.