BEGIN:VCALENDAR
VERSION:2.0
PRODID:-//hacksw/handcal//NONSGML v1.0//EN
CALSCALE:GREGORIAN
BEGIN:VEVENT
DTEND:20061216T230000Z
UID:69ecfe04cafcf
DTSTAMP:20260425T184644Z
LOCATION:0 Syke
DESCRIPTION:
URL;VALUE=URI:
SUMMARY:Syke-Weyher Cross-Serie\, 27.Country-Lauf
DTSTART:20061216T230000Z
END:VEVENT
END:VCALENDAR
An internal server error occurred.