BEGIN:VCALENDAR
VERSION:2.0
PRODID:-//hacksw/handcal//NONSGML v1.0//EN
CALSCALE:GREGORIAN
BEGIN:VEVENT
DTEND:20061216T230000Z
UID:69eca7bb7f42c
DTSTAMP:20260425T123835Z
LOCATION:0 Wolfhagen-Ippinghausen
DESCRIPTION:
URL;VALUE=URI:
SUMMARY:14.Winterlaufserie des TSV Ippinghausen\, 2.Lauf
DTSTART:20061216T230000Z
END:VEVENT
END:VCALENDAR
An internal server error occurred.