BEGIN:VCALENDAR
VERSION:2.0
PRODID:-//hacksw/handcal//NONSGML v1.0//EN
CALSCALE:GREGORIAN
BEGIN:VEVENT
DTEND:20061209T230000Z
UID:69e5e2291ee2f
DTSTAMP:20260420T092201Z
LOCATION:0 Witten
DESCRIPTION:
URL;VALUE=URI:
SUMMARY:16.Wittener Weihnachtslauf
DTSTART:20061209T230000Z
END:VEVENT
END:VCALENDAR
An internal server error occurred.