BEGIN:VCALENDAR
VERSION:2.0
PRODID:-//hacksw/handcal//NONSGML v1.0//EN
CALSCALE:GREGORIAN
BEGIN:VEVENT
DTEND:20061209T230000Z
UID:69e5f19f08992
DTSTAMP:20260420T102759Z
LOCATION:0 Jülich
DESCRIPTION:
URL;VALUE=URI:
SUMMARY:22.Jülicher Weihnachtslauf für Jedermann
DTSTART:20061209T230000Z
END:VEVENT
END:VCALENDAR
An internal server error occurred.