BEGIN:VCALENDAR
VERSION:2.0
PRODID:-//hacksw/handcal//NONSGML v1.0//EN
CALSCALE:GREGORIAN
BEGIN:VEVENT
DTEND:20061209T230000Z
UID:69e54fb1e8ebf
DTSTAMP:20260419T225705Z
LOCATION:0 Hannover
DESCRIPTION:
URL;VALUE=URI:
SUMMARY:29.Mühlenberger Nikolauslauf
DTSTART:20061209T230000Z
END:VEVENT
END:VCALENDAR
An internal server error occurred.