BEGIN:VCALENDAR
VERSION:2.0
PRODID:-//hacksw/handcal//NONSGML v1.0//EN
CALSCALE:GREGORIAN
BEGIN:VEVENT
DTEND:20061209T230000Z
UID:69e5e233c32df
DTSTAMP:20260420T092211Z
LOCATION:0 Rostock
DESCRIPTION:
URL;VALUE=URI:
SUMMARY:27. Nikolauslauf Rostock
DTSTART:20061209T230000Z
END:VEVENT
END:VCALENDAR
An internal server error occurred.