BEGIN:VCALENDAR
VERSION:2.0
PRODID:-//hacksw/handcal//NONSGML v1.0//EN
CALSCALE:GREGORIAN
BEGIN:VEVENT
DTEND:20061209T230000Z
UID:69ed1a134928f
DTSTAMP:20260425T204627Z
LOCATION:0 Quickborn
DESCRIPTION:
URL;VALUE=URI:
SUMMARY:Winterlauf-Serie\, 2.Lauf
DTSTART:20061209T230000Z
END:VEVENT
END:VCALENDAR
An internal server error occurred.