BEGIN:VCALENDAR
VERSION:2.0
PRODID:-//hacksw/handcal//NONSGML v1.0//EN
CALSCALE:GREGORIAN
BEGIN:VEVENT
DTEND:20061209T230000Z
UID:69e75aeff2eff
DTSTAMP:20260421T120935Z
LOCATION:0 Mörfelden
DESCRIPTION:
URL;VALUE=URI:
SUMMARY:30.Mörfelder Winterlaufserie 06/07
DTSTART:20061209T230000Z
END:VEVENT
END:VCALENDAR
An internal server error occurred.