BEGIN:VCALENDAR
VERSION:2.0
PRODID:-//hacksw/handcal//NONSGML v1.0//EN
CALSCALE:GREGORIAN
BEGIN:VEVENT
DTEND:20061208T230000Z
UID:69e63070aa72d
DTSTAMP:20260420T145600Z
LOCATION:0 Ottweiler
DESCRIPTION:
URL;VALUE=URI:
SUMMARY:2.Energis-Nachtwächterlauf
DTSTART:20061208T230000Z
END:VEVENT
END:VCALENDAR
An internal server error occurred.