BEGIN:VCALENDAR
VERSION:2.0
PRODID:-//hacksw/handcal//NONSGML v1.0//EN
CALSCALE:GREGORIAN
BEGIN:VEVENT
DTEND:20061208T230000Z
UID:69ed482b8795c
DTSTAMP:20260426T000307Z
LOCATION:0 Bergisch Gladbach
DESCRIPTION:
URL;VALUE=URI:
SUMMARY:37.Winterlaufserie 06/07\, 2.Lauf
DTSTART:20061208T230000Z
END:VEVENT
END:VCALENDAR
An internal server error occurred.