BEGIN:VCALENDAR
VERSION:2.0
PRODID:-//hacksw/handcal//NONSGML v1.0//EN
CALSCALE:GREGORIAN
BEGIN:VEVENT
DTEND:20061208T230000Z
UID:69e5c5d654e25
DTSTAMP:20260420T072110Z
LOCATION:0 Rotenburg a.d.Fulda
DESCRIPTION:
URL;VALUE=URI:
SUMMARY:4.Rotenburger Winter-Herzlauf
DTSTART:20061208T230000Z
END:VEVENT
END:VCALENDAR
An internal server error occurred.