BEGIN:VCALENDAR
VERSION:2.0
PRODID:-//hacksw/handcal//NONSGML v1.0//EN
CALSCALE:GREGORIAN
BEGIN:VEVENT
DTEND:20061207T230000Z
UID:69e59b528440c
DTSTAMP:20260420T041946Z
LOCATION:0 Potsdam
DESCRIPTION:
URL;VALUE=URI:
SUMMARY:Lichterpaarlauf
DTSTART:20061207T230000Z
END:VEVENT
END:VCALENDAR
An internal server error occurred.