BEGIN:VCALENDAR
VERSION:2.0
PRODID:-//hacksw/handcal//NONSGML v1.0//EN
CALSCALE:GREGORIAN
BEGIN:VEVENT
DTEND:20061202T230000Z
UID:69ec1ae59589c
DTSTAMP:20260425T023741Z
LOCATION:0 Neunkirchen
DESCRIPTION:
URL;VALUE=URI:
SUMMARY:30.Bank 1 Saar-Neunkirchen-Volksbank-Straßenlauf
DTSTART:20061202T230000Z
END:VEVENT
END:VCALENDAR
An internal server error occurred.