BEGIN:VCALENDAR
VERSION:2.0
PRODID:-//hacksw/handcal//NONSGML v1.0//EN
CALSCALE:GREGORIAN
BEGIN:VEVENT
DTEND:20061202T230000Z
UID:69ed74a275f8a
DTSTAMP:20260426T031250Z
LOCATION:0 Arnstorf/Stelzenöd
DESCRIPTION:
URL;VALUE=URI:
SUMMARY:29.Landesoff. Nikolaus-Waldlauf mit Grenzland Laufcup
DTSTART:20061202T230000Z
END:VEVENT
END:VCALENDAR
An internal server error occurred.