BEGIN:VCALENDAR
VERSION:2.0
PRODID:-//hacksw/handcal//NONSGML v1.0//EN
CALSCALE:GREGORIAN
BEGIN:VEVENT
DTEND:20061201T230000Z
UID:69e9adba9b106
DTSTAMP:20260423T062722Z
LOCATION:0 Rodgau
DESCRIPTION:
URL;VALUE=URI:
SUMMARY:2.Durchgang 27. Winterlaufserie
DTSTART:20061201T230000Z
END:VEVENT
END:VCALENDAR
An internal server error occurred.